BEGIN:VCALENDAR
VERSION:2.0
PRODID:-//wp-events-plugin.com//7.2.3.1//EN
TZID:Europe/Berlin
X-WR-TIMEZONE:Europe/Berlin
BEGIN:VEVENT
UID:1-283@vv-wildenstein.com
DTSTART;TZID=Europe/Berlin:20230302T180000
DTEND;TZID=Europe/Berlin:20230302T193000
DTSTAMP:20230106T134037Z
URL:https://vv-wildenstein.com/veranstaltungen/workshop-appsolut-sicher-im
 -umgang-mit-dem-smartphone-3/
SUMMARY:Workshop "APPSOLUT SICHER" im Umgang mit dem Smartphone - für alle
  Interessierte -
DESCRIPTION:Ort der Veranstaltung: Vereinsraum "Am Stein" in Waldkirchen (a
 n der Turnhalle)
ATTACH;FMTTYPE=image/jpeg:https://vv-wildenstein.com/wp-content/uploads/20
 22/02/APPSOLUT-SICHER.jpg
END:VEVENT
BEGIN:VTIMEZONE
TZID:Europe/Berlin
X-LIC-LOCATION:Europe/Berlin
BEGIN:STANDARD
DTSTART:20221030T020000
TZOFFSETFROM:+0200
TZOFFSETTO:+0100
TZNAME:CET
END:STANDARD
END:VTIMEZONE
END:VCALENDAR