BEGIN:VCALENDAR
VERSION:2.0
PRODID:-//wp-events-plugin.com//7.2.3.1//EN
TZID:Europe/Berlin
X-WR-TIMEZONE:Europe/Berlin
BEGIN:VEVENT
UID:1-588@vv-wildenstein.com
DTSTART;TZID=Europe/Berlin:20250111T160000
DTEND;TZID=Europe/Berlin:20250111T160000
DTSTAMP:20241219T124153Z
URL:https://vv-wildenstein.com/veranstaltungen/weihnachtsbaumverbrennen-am
 -11-01-2025-in-boernichen/
SUMMARY:Weihnachtsbaumverbrennen am 11.01.2025 in Börnichen
DESCRIPTION:Wichtig!\nWeihnachtsbäume können bis zum 10.01.2025 an der Ta
 nzfläche auf dem Festplatz in Börnichen abgegeben werden.
ATTACH;FMTTYPE=image/jpeg:https://vv-wildenstein.com/wp-content/uploads/20
 24/12/11.01.2025-Weihn.baumverbrennen-in-Boernichen.png
END:VEVENT
BEGIN:VTIMEZONE
TZID:Europe/Berlin
X-LIC-LOCATION:Europe/Berlin
BEGIN:STANDARD
DTSTART:20241027T020000
TZOFFSETFROM:+0200
TZOFFSETTO:+0100
TZNAME:CET
END:STANDARD
END:VTIMEZONE
END:VCALENDAR