BEGIN:VCALENDAR
VERSION:2.0
PRODID:-//wp-events-plugin.com//7.2.3.1//EN
TZID:Europe/Berlin
X-WR-TIMEZONE:Europe/Berlin
BEGIN:VEVENT
UID:1-541@vv-wildenstein.com
DTSTART;TZID=Europe/Berlin:20241026T190000
DTEND;TZID=Europe/Berlin:20241026T230000
DTSTAMP:20240915T193236Z
URL:https://vv-wildenstein.com/veranstaltungen/tanzabend-2/
SUMMARY:Tanzabend
DESCRIPTION:Am 26.10.2024 findet unser 1. Tanzabend statt. Der Einlass begi
 nnt ab 18.00 Uhr. Das Ende ist für 23.00\nUhr oder später geplant. Der E
 intritt wird 5€ kosten und ab sofort können über unsere E-Mail -\nAdre
 sse die Karten reserviert werden: info@kulturhaus-neues-leben.de Bitte Nam
 e und Anzahl\nangeben! Der offizielle Kartenvorverkauf\, die Bezahlung und
  die Abholung der reservierten Karten\nwird am 05.10.2024 zwischen 10.00 U
 hr und 14.00 Uhr im Kulturhaus stattfinden. Wem dies nicht\nmöglich ist\,
  der hat die Chance\, die reservierten Karten dann zum Tanzabend bis 19.00
  Uhr\nabzuholen. Die Abendkasse ist ab 18.00 Uhr geöffnet. (Preis Abendka
 sse ohne Reservierung 7€\, wenn\nnoch Karten vorrätig sind). Wir wollen
  ein Angebot für Jung und Alt bieten und auch unser\nProminenter wird sic
 h an diesem speziellen Abend präsentieren. Auch an diesem Abend wird es e
 in\nkleines Imbissangebot und gekühlte Getränke geben. Die Bar ist für 
 Mixgetränke geöffnet! Bitte\nbeachten: der große Saal ist ohne Heizung!
ATTACH;FMTTYPE=image/jpeg:https://vv-wildenstein.com/wp-content/uploads/20
 24/09/Tanzabend.jpg
END:VEVENT
BEGIN:VTIMEZONE
TZID:Europe/Berlin
X-LIC-LOCATION:Europe/Berlin
BEGIN:DAYLIGHT
DTSTART:20240331T030000
TZOFFSETFROM:+0100
TZOFFSETTO:+0200
TZNAME:CEST
END:DAYLIGHT
END:VTIMEZONE
END:VCALENDAR