BEGIN:VCALENDAR
VERSION:2.0
PRODID:-//wp-events-plugin.com//7.2.3.1//EN
TZID:Europe/Berlin
X-WR-TIMEZONE:Europe/Berlin
BEGIN:VEVENT
UID:1-649@vv-wildenstein.com
DTSTART;TZID=Europe/Berlin:20250912T180000
DTEND;TZID=Europe/Berlin:20250912T210000
DTSTAMP:20250902T142100Z
URL:https://vv-wildenstein.com/veranstaltungen/natur-workshop-schaetze-im-
 spaetsommer/
SUMMARY:Natur-Workshop "Schätze im Spätsommer" am 12.09.2025
DESCRIPTION:100 JAHRE MARGERITENENGEL – Workshop-Abende\n\nDie Margeriten
 engel verzaubern mit ihrem ganz eigenen Charme und sie alle eint ihr zarte
 s\, kindlich unbeschwertes Wesen sowie die weißblauen Federflügel und de
 r namensgebende Margeritenkranz. Olly Sommer (später Wendt)\, die kreativ
 e Gestalterin an Grete Wendts Seite\, schuf zahlreiche Margeritenengel. Na
 chweislich ist der erste Entwurf im Februar 1925 entstanden und mittlerwei
 le verzaubert eine ganze Schar an Engeln.\n\nEinige von ihnen zeichnen\, s
 tricken\, klöppeln\, backen\, kochen und werkeln.\n\nWir wollen es ihnen 
 im Jubiläumsjahr gleichtun und laden Sie zu vielfältigen Workshops in di
 e Wendt &amp\; Kühn-Welt ein.\n\nWeitere Informationen unter:\n\nhttps://
 www.wendt-kuehn.de/erleben/ausfluege-und-veranstaltungen/events-in-der-wen
 dt-und-kuehn-welt-2025-1/\n\nAnfragen/ Anmeldung unter erlebnis@wendt-kueh
 n.de oder telefonisch: 037294/ 86128\n\n&nbsp\;
ATTACH;FMTTYPE=image/jpeg:https://vv-wildenstein.com/wp-content/uploads/20
 25/03/Bildidee-Margeritengel-mit-Korb-1.jpg
CATEGORIES:Sonstiges
LOCATION:Wendt & Kühn\, Chemnitzer Straße 40\, OT Grünhainichen\, Sachse
 n\, 09579\, Gemeinde Grünhainichen\, Deutschland
GEO:50.7681097;13.153989599999932
X-APPLE-STRUCTURED-LOCATION;VALUE=URI;X-ADDRESS=Chemnitzer Straße 40\, OT 
 Grünhainichen\, Sachsen\, 09579\, Gemeinde Grünhainichen\, Deutschland;X
 -APPLE-RADIUS=100;X-TITLE=Wendt & Kühn:geo:50.7681097,13.153989599999932
END:VEVENT
BEGIN:VTIMEZONE
TZID:Europe/Berlin
X-LIC-LOCATION:Europe/Berlin
BEGIN:DAYLIGHT
DTSTART:20250330T030000
TZOFFSETFROM:+0100
TZOFFSETTO:+0200
TZNAME:CEST
END:DAYLIGHT
END:VTIMEZONE
END:VCALENDAR