BEGIN:VCALENDAR
VERSION:2.0
PRODID:-//wp-events-plugin.com//7.2.3.1//EN
TZID:Europe/Berlin
X-WR-TIMEZONE:Europe/Berlin
BEGIN:VEVENT
UID:1-415@vv-wildenstein.com
DTSTART;TZID=Europe/Berlin:20231212T183000
DTEND;TZID=Europe/Berlin:20231212T203000
DTSTAMP:20231211T090724Z
URL:https://vv-wildenstein.com/veranstaltungen/12-tuerchen-lebendiger-adve
 ntskalender/
SUMMARY:12. Türchen - Lebendiger Adventskalender
DESCRIPTION:\nGeschichten &amp\; Geschichte aus Grünhainichen - 90 Jahre E
 mil Helbig\n90 Jahre Emil Helbig - zu Gast ist Bettina Bergmann\, Inhaberi
 n der Schnitzerei Helbig bei "Antik &amp\; Dekoration Jana Geisler" in der
  Chemnitzer Str. 39 in Grünhainichen.\n\nBeginn ist 18:30 Uhr. Es wird in
 teressant!\n\n
ATTACH;FMTTYPE=image/jpeg:https://vv-wildenstein.com/wp-content/uploads/20
 23/12/12.Tuerchen.jpg
CATEGORIES:Weihnachten
END:VEVENT
BEGIN:VTIMEZONE
TZID:Europe/Berlin
X-LIC-LOCATION:Europe/Berlin
BEGIN:STANDARD
DTSTART:20231029T020000
TZOFFSETFROM:+0200
TZOFFSETTO:+0100
TZNAME:CET
END:STANDARD
END:VTIMEZONE
END:VCALENDAR